{"text_format":"1","workbook":"xlsx","n_sheets":4,"sheets":["Sayfa1","KADEME","DERECE","MAAS"],"not_rendered":{"charts":0,"images":0,"macros":1,"external_links":0,"defined_names":4,"comments":3,"pivot_tables":0},"unopened":[],"bounds":{"document_bytes":16777216,"sheet_cells":100000,"rows_first":2000,"rows_last":500,"rows_between":2000,"halvings":0,"cell_chars":16384,"cell_head_chars":4096},"cells_cut":0,"cells_raw":0,"read":"whole","date_system":"1900"}

{"sheet":"Sayfa1","index":0,"n_rows":101,"n_cols":19,"rows_kept":101,"cut":false,"hidden":false,"merged":[]}
["SIRA","TC Kimlik No","Adı","Soyadı","İstihdam Tipi","Kariyer Durumu","Baba Adı","Doğum Yılı","Personel No","Ay.Der/Kad.","Son Terfi Tarihi","Emekli Sicil No","Kurum Sicil No","Kadro Unvanı","Görevi","Alanı","Son 8 yıl","Onay","TOPLU SÖZLEŞME\n1DERECE"]
[1,120,"111KİŞİ","SS","Kadrolu","Öğretmen",null,null,null,"1/1","2016-08-11",null,null,"Öğretmen","Öğretmen","Sosyal Bilgiler","2016-02-25","+","2005-01-15"]
[2,121,"AA","SS","Kadrolu","Öğretmen",null,null,null,"3/3","08.10.2016",null,null,"Öğretmen","Müdür","Türkçe","2009-01-01",null,"2005-01-15"]
[3,122,"AA","SS","Kadrolu","Öğretmen",null,null,null,"3/2","2016-12-22",null,null,"Öğretmen","Öğretmen","Din Kült. ve Ahl.Bil.",null,null,"2005-01-15"]
[4,123,"AA","SS","Kadrolu","Öğretmen",null,null,null,"5/1","26.03.2017",null,null,"Öğretmen","Öğretmen","İngilizce",null,null,"2016-01-15"]
[5,124,"AA","SS","Kadrolu","Öğretmen",null,null,null,"2/3","11.12.2016",null,null,"Öğretmen","Öğretmen","Sosyal Bilgiler","2016-02-25",null,"2005-01-15"]
[6,125,"AA","SS","Kadrolu","Öğretmen",null,null,null,"6/1","06.09.2016",null,null,"Öğretmen","Öğretmen","Fen Bilimleri/Fen ve Teknoloji",null,null,"2016-01-15"]
[7,126,"AA","SS","Kadrolu","Öğretmen",null,null,null,"5/1","26.08.2016",null,null,"Öğretmen","Öğretmen","Türkçe",null,"+","2016-01-15"]
[8,127,"AA","SS","Kadrolu","Aday Öğretmen",null,null,null,"8/2","2016-08-16",null,null,"Öğretmen","Öğretmen","Beden Eğitimi",null,"+","2016-01-15"]
[9,128,"AA","SS","Kadrolu","Öğretmen",null,null,null,"5/2","16.09.2016",null,null,"Öğretmen","Öğretmen","Din Kült. ve Ahl.Bil.",null,null,"2016-01-15"]
[10,129,"AA","SS","Kadrolu","Öğretmen",null,null,null,"8/3","2016-09-22",null,null,"Öğretmen","Öğretmen","Fen Bilimleri/Fen ve Teknoloji",null,null,"2016-01-15"]
[11,130,"AA","SS","Kadrolu","Öğretmen",null,null,null,"8/3","22.09.2016",null,null,"Öğretmen","Öğretmen","İngilizce",null,null,"2016-01-15"]
[12,131,"AA","SS","Kadrolu","Öğretmen",null,null,null,"5/1","05.03.2017",null,null,"Öğretmen","Öğretmen","Bilişim Teknolojileri",null,null,"2016-01-15"]
[13,132,"AA","SS","Kadrolu","Öğretmen",null,null,null,"3/2","25.09.2016",null,null,"Öğretmen","Öğretmen","Teknoloji ve Tasarım","2016-02-25",null,"2015-01-15"]
[14,133,"AA","SS","Kadrolu","Öğretmen",null,null,null,"7/3","21.01.2017",null,null,"Öğretmen","Öğretmen","Fen Bilimleri/Fen ve Teknoloji",null,"+","2016-01-15"]
[15,134,"AA","SS","Kadrolu","Öğretmen",null,null,null,"5/3","12.09.2016",null,null,"Öğretmen","Öğretmen","Türkçe",null,null,"2016-01-15"]
[16,135,"AA","SS","Kadrolu","Öğretmen",null,null,null,"4/2","05.09.2016",null,null,"Öğretmen","Öğretmen","Fen Bilimleri/Fen ve Teknoloji","2014-02-28",null,"2016-01-15"]
[17,136,"AA","SS","Kadrolu","Öğretmen",null,null,null,"5/3","04.09.2016",null,null,"Öğretmen","Öğretmen","Okul Öncesi Öğrt","2016-02-25",null,"2016-01-15"]
[18,137,"AA","SS","Kadrolu","Öğretmen",null,null,null,"4/2","16.09.2016",null,null,"Öğretmen","Öğretmen","İlköğretim Matematik Öğr.","2016-02-25",null,"2016-01-15"]
[19,138,"AA","SS","Kadrolu","Öğretmen",null,null,null,"6/3","15.01.2017",null,null,"Öğretmen","Öğretmen","İlköğretim Matematik Öğr.",null,null,"2016-01-15"]
[20,139,"AA","SS","Kadrolu","Öğretmen",null,null,null,"5/3","23.02.2017",null,null,"Öğretmen","Öğretmen","Teknoloji ve Tasarım","2016-02-25",null,"2016-01-15"]
[21,140,"AA","SS","Kadrolu","Öğretmen",null,null,null,"6/3","18.12.2016",null,null,"Öğretmen","Öğretmen","Türkçe",null,null,"2016-01-15"]
[22,141,"AA","SS","Kadrolu","Aday Öğretmen",null,null,null,"8/2","2016-09-17",null,null,"Öğretmen","Öğretmen","Beden Eğitimi",null,null,"2016-01-15"]
[23,142,"AA","SS","Kadrolu","Öğretmen",null,null,null,"5/1","16.11.2016",null,null,"Öğretmen","Öğretmen","İngilizce",null,null,"2016-01-15"]
[24,143,"AA","SS","Kadrolu","Öğretmen",null,null,null,"4/3","06.09.2016",null,null,"Öğretmen","Öğretmen","İlköğretim Matematik Öğr.","2015-03-08",null,"2016-01-15"]
[25,144,"AA","SS","Kadrolu","Öğretmen",null,null,null,"6/3","14.09.2016",null,null,"Öğretmen","Öğretmen","Türkçe",null,null,"2016-01-15"]
[26,145,"AA","SS","Kadrolu","Öğretmen",null,null,null,"4/3","02.02.2017",null,null,"Öğretmen","Öğretmen","Türkçe","2011-01-01","+","2016-01-15"]
[27,146,"AA","SS","Kadrolu","Öğretmen",null,null,null,"4/2","2017-02-24",null,null,"Öğretmen","Öğretmen","Türkçe",null,null,"2016-01-15"]
[28,147,"AA","SS","Kadrolu","Öğretmen",null,null,null,"5/2","2016-10-29",null,null,"Öğretmen","Öğretmen","Fen Bilimleri/Fen ve Teknoloji",null,null,"2016-01-15"]
[29,148,"AA","SS","Kadrolu","Öğretmen",null,null,null,"8/3","12.02.2017",null,null,"Öğretmen","Öğretmen","Din Kült. ve Ahl.Bil.",null,null,"2016-01-15"]
[30,149,"AA","SS","Kadrolu","Öğretmen",null,null,null,"4/1","10.09.2016",null,null,"Öğretmen","Müdür Yardımcısı","Bilişim Teknolojileri","2016-02-25",null,"2016-01-15"]
[31,150,"AA","SS","Kadrolu","Öğretmen",null,null,null,"6/1","2016-09-05",null,null,"Öğretmen","Öğretmen","Görsel Sanatlar",null,null,"2016-01-15"]
[32,151,"AA","SS","Kadrolu","Öğretmen",null,null,null,"5/1","2019-01-05",null,null,"Öğretmen","Öğretmen","İngilizce",null,null,"2016-01-15"]
[33,152,"AA","SS","Kadrolu","Öğretmen",null,null,null,"1/1","2019-01-20",null,null,"Öğretmen","Öğretmen","Görsel Sanatlar",null,null,"2016-01-15"]
[34,153,"AA","SS","Kadrolu","Öğretmen",null,null,null,"3/3","2019-02-04",null,null,"Öğretmen","Öğretmen","İngilizce",null,null,"2016-01-15"]
[35,154,"AA","SS","Kadrolu","Öğretmen",null,null,null,"3/2","2019-02-19",null,null,"Öğretmen","Öğretmen","Görsel Sanatlar",null,null,"2016-01-15"]
[36,155,"AA","SS","Kadrolu","Öğretmen",null,null,null,"5/1","2019-03-06",null,null,"Öğretmen","Öğretmen","İngilizce",null,null,"2016-01-15"]
[37,156,"AA","SS","Kadrolu","Öğretmen",null,null,null,"2/3","2019-03-21",null,null,"Öğretmen","Öğretmen","Görsel Sanatlar",null,null,"2016-01-15"]
[38,157,"AA","SS","Kadrolu","Öğretmen",null,null,null,"6/1","2019-04-05",null,null,"Öğretmen","Öğretmen","İngilizce",null,null,"2016-01-15"]
[39,158,"AA","SS","Kadrolu","Öğretmen",null,null,null,"5/1","2019-04-20",null,null,"Öğretmen","Öğretmen","Görsel Sanatlar",null,null,"2016-01-15"]
[40,159,"AA","SS","Kadrolu","Öğretmen",null,null,null,"8/2","2019-05-05",null,null,"Öğretmen","Öğretmen","İngilizce",null,null,"2016-01-15"]
[41,160,"AA","SS","Kadrolu","Öğretmen",null,null,null,"5/2","2019-05-20",null,null,"Öğretmen","Öğretmen","Görsel Sanatlar",null,null,"2016-01-15"]
[42,161,"AA","SS","Kadrolu","Öğretmen",null,null,null,"8/3","2019-06-04",null,null,"Öğretmen","Öğretmen","İngilizce",null,null,"2016-01-15"]
[43,162,"AA","SS","Kadrolu","Öğretmen",null,null,null,"8/3","2019-06-19",null,null,"Öğretmen","Öğretmen","Görsel Sanatlar",null,null,"2016-01-15"]
[44,163,"AA","SS","Kadrolu","Öğretmen",null,null,null,"5/1","2019-07-04",null,null,"Öğretmen","Öğretmen","Görsel Sanatlar",null,null,"2016-01-15"]
[45,164,"AA","SS","Kadrolu","Öğretmen",null,null,null,"3/2","2019-07-19",null,null,"Öğretmen","Öğretmen","İngilizce",null,null,"2016-01-15"]
[46,165,"AA","SS","Kadrolu","Öğretmen",null,null,null,"7/3","2019-08-03",null,null,"Öğretmen","Öğretmen","Görsel Sanatlar",null,null,"2016-01-15"]
[47,166,"AA","SS","Kadrolu","Öğretmen",null,null,null,"5/3","2019-08-18",null,null,"Öğretmen","Öğretmen","İngilizce",null,null,"2016-01-15"]
[48,167,"AA","SS","Kadrolu","Öğretmen",null,null,null,"3/2","2019-09-02",null,null,"Öğretmen","Öğretmen","Görsel Sanatlar",null,null,"2016-01-15"]
[49,168,"AA","SS","Kadrolu","Öğretmen",null,null,null,"7/3","2019-09-17",null,null,"Öğretmen","Öğretmen","İngilizce",null,null,"2016-01-15"]
[50,169,"AA","SS","Kadrolu","Öğretmen",null,null,null,"5/3","2019-02-02",null,null,"Öğretmen","Öğretmen","Görsel Sanatlar",null,null,"2016-01-15"]
[51,170,"AA","SS","Kadrolu","Öğretmen",null,null,null,"1/1","2016-08-11",null,null,"Öğretmen","Öğretmen","İngilizce",null,null,"2016-01-15"]
[52,171,"AA","SS","Kadrolu","Öğretmen",null,null,null,"3/3","08.10.2016",null,null,"Öğretmen","Öğretmen","Görsel Sanatlar",null,null,"2016-01-15"]
[53,172,"AA","SS","Kadrolu","Öğretmen",null,null,null,"3/2","2016-12-22",null,null,"Öğretmen","Öğretmen","İngilizce",null,null,"2016-01-15"]
[54,173,"AA","SS","Kadrolu","Öğretmen",null,null,null,"5/1","26.03.2017",null,null,"Öğretmen","Öğretmen","Görsel Sanatlar",null,null,"2016-01-15"]
[55,174,"AA","SS","Kadrolu","Öğretmen",null,null,null,"2/3","11.12.2016",null,null,"Öğretmen","Öğretmen","İngilizce",null,null,"2016-01-15"]
[56,175,"AA","SS","Kadrolu","Öğretmen",null,null,null,"6/1","06.09.2016",null,null,"Öğretmen","Öğretmen","Görsel Sanatlar",null,null,"2016-01-15"]
[57,176,"AA","SS","Kadrolu","Öğretmen",null,null,null,"5/1","26.08.2016",null,null,"Öğretmen","Öğretmen","İngilizce",null,null,"2016-01-15"]
[58,177,"AA","SS","Kadrolu","Öğretmen",null,null,null,"8/2","2016-08-16",null,null,"Öğretmen","Öğretmen","Görsel Sanatlar",null,null,"2016-01-15"]
[59,178,"AA","SS","Kadrolu","Öğretmen",null,null,null,"5/2","16.09.2016",null,null,"Öğretmen","Öğretmen","İngilizce",null,null,"2016-01-15"]
[60,179,"AA","SS","Kadrolu","Öğretmen",null,null,null,"8/3","2016-09-22",null,null,"Öğretmen","Öğretmen","Görsel Sanatlar",null,null,"2016-01-15"]
[61,180,"AA","SS","Kadrolu","Öğretmen",null,null,null,"8/3","22.09.2016",null,null,"Öğretmen","Öğretmen","İngilizce",null,null,"2016-01-15"]
[62,181,"AA","SS","Kadrolu","Öğretmen",null,null,null,"5/1","05.03.2017",null,null,"Öğretmen","Öğretmen","Görsel Sanatlar",null,null,"2016-01-15"]
[63,182,"AA","SS","Kadrolu","Öğretmen",null,null,null,"3/2","25.09.2016",null,null,"Öğretmen","Öğretmen","İngilizce",null,null,"2016-01-15"]
[64,183,"AA","SS","Kadrolu","Öğretmen",null,null,null,"7/3","21.01.2017",null,null,"Öğretmen","Öğretmen","Görsel Sanatlar",null,null,"2016-01-15"]
[65,184,"AA","SS","Kadrolu","Öğretmen",null,null,null,"5/3","12.09.2016",null,null,"Öğretmen","Öğretmen","İngilizce",null,null,"2016-01-15"]
[66,185,"AA","SS","Kadrolu","Öğretmen",null,null,null,"4/2","05.09.2016",null,null,"Öğretmen","Öğretmen","Görsel Sanatlar",null,null,"2016-01-15"]
[67,186,"AA","SS","Kadrolu","Öğretmen",null,null,null,"5/3","04.09.2016",null,null,"Öğretmen","Öğretmen","İngilizce",null,null,"2016-01-15"]
[68,187,"AA","SS","Kadrolu","Öğretmen",null,null,null,"4/2","16.09.2016",null,null,"Öğretmen","Öğretmen","Görsel Sanatlar",null,null,"2016-01-15"]
[69,188,"AA","SS","Kadrolu","Öğretmen",null,null,null,"6/3","15.01.2017",null,null,"Öğretmen","Öğretmen","İngilizce",null,null,"2016-01-15"]
[70,189,"AA","SS","Kadrolu","Öğretmen",null,null,null,"5/3","23.02.2017",null,null,"Öğretmen","Öğretmen","Görsel Sanatlar",null,null,"2016-01-15"]
[71,190,"AA","SS","Kadrolu","Öğretmen",null,null,null,"6/3","18.12.2016",null,null,"Öğretmen","Öğretmen","İngilizce",null,null,"2016-01-15"]
[72,191,"AA","SS","Kadrolu","Öğretmen",null,null,null,"8/2","2016-09-17",null,null,"Öğretmen","Öğretmen","Görsel Sanatlar",null,null,"2016-01-15"]
[73,192,"AA","SS","Kadrolu","Öğretmen",null,null,null,"5/1","16.11.2016",null,null,"Öğretmen","Öğretmen","İngilizce",null,null,"2016-01-15"]
[74,193,"AA","SS","Kadrolu","Öğretmen",null,null,null,"4/3","06.09.2016",null,null,"Öğretmen","Öğretmen","Görsel Sanatlar",null,null,"2016-01-15"]
[75,194,"AA","SS","Kadrolu","Öğretmen",null,null,null,"6/3","14.09.2016",null,null,"Öğretmen","Öğretmen","İngilizce",null,null,"2016-01-15"]
[76,195,"AA","SS","Kadrolu","Öğretmen",null,null,null,"4/3","02.02.2017",null,null,"Öğretmen","Öğretmen","Görsel Sanatlar",null,null,"2016-01-15"]
[77,196,"AA","SS","Kadrolu","Öğretmen",null,null,null,"4/2","2017-02-24",null,null,"Öğretmen","Öğretmen","İngilizce",null,null,"2016-01-15"]
[78,197,"AA","SS","Kadrolu","Öğretmen",null,null,null,"5/2","2016-10-29",null,null,"Öğretmen","Öğretmen","Görsel Sanatlar",null,null,"2016-01-15"]
[79,198,"AA","SS","Kadrolu","Öğretmen",null,null,null,"8/3","12.02.2017",null,null,"Öğretmen","Öğretmen","İngilizce",null,null,"2016-01-15"]
[80,199,"AA","SS","Kadrolu","Öğretmen",null,null,null,"4/1","10.09.2016",null,null,"Öğretmen","Öğretmen","Görsel Sanatlar",null,null,"2016-01-15"]
[81,200,"AA","SS","Kadrolu","Öğretmen",null,null,null,"6/1","2016-09-05",null,null,"Öğretmen","Öğretmen","İngilizce",null,null,"2016-01-15"]
[82,201,"AA","SS","Kadrolu","Öğretmen",null,null,null,"5/1","2019-01-05",null,null,"Öğretmen","Öğretmen","Görsel Sanatlar",null,null,"2016-01-15"]
[83,202,"AA","SS","Kadrolu","Öğretmen",null,null,null,"1/1","2019-01-20",null,null,"Öğretmen","Öğretmen","İngilizce",null,null,"2016-01-15"]
[84,203,"AA","SS","Kadrolu","Öğretmen",null,null,null,"3/3","2019-02-04",null,null,"Öğretmen","Öğretmen","Görsel Sanatlar",null,null,"2016-01-15"]
[85,204,"AA","SS","Kadrolu","Öğretmen",null,null,null,"3/2","2019-02-19",null,null,"Öğretmen","Öğretmen","İngilizce",null,null,"2016-01-15"]
[86,205,"AA","SS","Kadrolu","Öğretmen",null,null,null,"5/1","2019-03-06",null,null,"Öğretmen","Öğretmen","Görsel Sanatlar",null,null,"2016-01-15"]
[87,206,"AA","SS","Kadrolu","Öğretmen",null,null,null,"2/3","2019-03-21",null,null,"Öğretmen","Öğretmen","İngilizce",null,null,"2016-01-15"]
[88,207,"AA","SS","Kadrolu","Öğretmen",null,null,null,"6/1","2019-04-05",null,null,"Öğretmen","Öğretmen","Görsel Sanatlar",null,null,"2016-01-15"]
[89,208,"AA","SS","Kadrolu","Öğretmen",null,null,null,"5/1","2019-04-20",null,null,"Öğretmen","Öğretmen","İngilizce",null,null,"2016-01-15"]
[90,209,"AA","SS","Kadrolu","Öğretmen",null,null,null,"8/2","2019-05-05",null,null,"Öğretmen","Öğretmen","Görsel Sanatlar",null,null,"2016-01-15"]
[91,210,"AA","SS","Kadrolu","Öğretmen",null,null,null,"5/2","2019-05-20",null,null,"Öğretmen","Öğretmen","İngilizce",null,null,"2016-01-15"]
[92,211,"AA","SS","Kadrolu","Öğretmen",null,null,null,"8/3","2019-06-04",null,null,"Öğretmen","Öğretmen","Görsel Sanatlar",null,null,"2016-01-15"]
[93,212,"AA","SS","Kadrolu","Öğretmen",null,null,null,"8/3","2019-06-19",null,null,"Öğretmen","Öğretmen","İngilizce",null,null,"2016-01-15"]
[94,213,"AA","SS","Kadrolu","Öğretmen",null,null,null,"5/1","2019-07-04",null,null,"Öğretmen","Öğretmen","Görsel Sanatlar",null,null,"2016-01-15"]
[95,214,"AA","SS","Kadrolu","Öğretmen",null,null,null,"3/2","2019-07-19",null,null,"Öğretmen","Öğretmen","İngilizce",null,null,"2016-01-15"]
[96,215,"AA","SS","Kadrolu","Öğretmen",null,null,null,"7/3","2019-08-03",null,null,"Öğretmen","Öğretmen","Görsel Sanatlar",null,null,"2016-01-15"]
[97,216,"AA","SS","Kadrolu","Öğretmen",null,null,null,"5/3","2019-08-18",null,null,"Öğretmen","Öğretmen","İngilizce",null,null,"2016-01-15"]
[98,217,"AA","SS","Kadrolu","Öğretmen",null,null,null,"3/2","2019-09-02",null,null,"Öğretmen","Öğretmen","Görsel Sanatlar",null,null,"2016-01-15"]
[99,218,"AA","SS","Kadrolu","Öğretmen",null,null,null,"7/3","2019-09-17",null,null,"Öğretmen","Öğretmen","İngilizce",null,null,"2016-01-15"]
[100,219,"AA","SS","Kadrolu","Öğretmen",null,null,null,"5/3","2019-02-02",null,null,"Öğretmen","Öğretmen","Görsel Sanatlar",null,null,"2016-01-15"]

{"sheet":"KADEME","index":1,"n_rows":31,"n_cols":18,"rows_kept":31,"cut":false,"hidden":false,"merged":[[0,0,0,16],[3,0,4,0],[3,1,4,1],[3,2,4,2],[3,3,4,3],[3,4,4,4],[3,5,4,5],[3,6,3,9],[3,10,3,13],[3,14,3,15],[3,16,4,16],[20,1,20,16],[22,1,22,16],[23,1,23,16],[24,1,24,16],[29,14,29,16],[30,14,30,16],[25,1,25,16],[26,1,26,16],[27,1,27,16],[28,1,28,16]]}
["KADEME TERFİ ONAYI"]
["İL/İLÇE:ANKARA/………………………","LÇE : …./…."]
[]
["S.NO","ADI-SOYADI","T.C.              KİMLİK NO","ÖĞR.DUR.","SINIFI","GÖREV YERİ","ESKİ DURUMU",null,null,null,"YENİ DURUM",null,null,null,"VARSA ARTAN KIDEMİ",null,"AÇIKLAMA"]
[null,null,null,null,null,null,"K","D","K","Bu D/K ye Yük.Tar.","K","D","K","Bu D/K ye Yük.Tar.","AY","GÜN",null,"SIRASI"]
[1,{"$f":"OFFSET(Sayfa1!$A$1,MATCH(R6,Sayfa1!$A$2:$A$101,0),2) &\" \"& OFFSET(Sayfa1!$A$1,MATCH(R6,Sayfa1!$A$2:$A$101,0),3)","v":"AA SS"},{"$f":"OFFSET(Sayfa1!$A$1,MATCH(R6,Sayfa1!$A$2:$A$101,0),1)","v":124},"Lisans","E.Ö.","XXXX",{"$f":"H6","v":"2"},{"$f":"LEFT(OFFSET(Sayfa1!$A$1,MATCH(R6,Sayfa1!$A$2:$A$101,0),9),1)","v":"2"},{"$f":"RIGHT(OFFSET(Sayfa1!$A$1,MATCH(R6,Sayfa1!$A$2:$A$101,0),9),1)","v":"3"},{"$f":"OFFSET(Sayfa1!$A$1,MATCH(R6,Sayfa1!$A$2:$A$101,0),10)","v":"11.12.2016"},{"$f":"G6","v":"2"},{"$f":"H6","v":"2"},null,{"$f":"J6+366","v":"2017-12-12"},"    ---------","     -------","    ---------",5]
[2,{"$f":"OFFSET(Sayfa1!$A$1,MATCH(R7,Sayfa1!$A$2:$A$101,0),2) &\" \"& OFFSET(Sayfa1!$A$1,MATCH(R7,Sayfa1!$A$2:$A$101,0),3)","v":"AA SS"},{"$f":"OFFSET(Sayfa1!$A$1,MATCH(R7,Sayfa1!$A$2:$A$101,0),1)","v":129},"Lisans","E.Ö.","XXXX",{"$f":"H7","v":"8"},{"$f":"LEFT(OFFSET(Sayfa1!$A$1,MATCH(R7,Sayfa1!$A$2:$A$101,0),9),1)","v":"8"},{"$f":"RIGHT(OFFSET(Sayfa1!$A$1,MATCH(R7,Sayfa1!$A$2:$A$101,0),9),1)","v":"3"},{"$f":"OFFSET(Sayfa1!$A$1,MATCH(R7,Sayfa1!$A$2:$A$101,0),10)","v":"2016-09-22"},{"$f":"G7","v":"8"},{"$f":"H7","v":"8"},null,{"$f":"J7+366","v":"2017-09-23"},"    ---------","     -------","    ---------",10]
[3,{"$f":"OFFSET(Sayfa1!$A$1,MATCH(R8,Sayfa1!$A$2:$A$101,0),2) &\" \"& OFFSET(Sayfa1!$A$1,MATCH(R8,Sayfa1!$A$2:$A$101,0),3)","v":"AA SS"},{"$f":"OFFSET(Sayfa1!$A$1,MATCH(R8,Sayfa1!$A$2:$A$101,0),1)","v":134},"Lisans","E.Ö.","XXXX","5",{"$f":"LEFT(OFFSET(Sayfa1!$A$1,MATCH(R8,Sayfa1!$A$2:$A$101,0),9),1)","v":"5"},{"$f":"RIGHT(OFFSET(Sayfa1!$A$1,MATCH(R8,Sayfa1!$A$2:$A$101,0),9),1)","v":"3"},{"$f":"OFFSET(Sayfa1!$A$1,MATCH(R8,Sayfa1!$A$2:$A$101,0),10)","v":"12.09.2016"},"5","5",null,"2017-09-13","    ---------","     -------","    ---------",15]
[4,{"$f":"OFFSET(Sayfa1!$A$1,MATCH(R9,Sayfa1!$A$2:$A$101,0),2) &\" \"& OFFSET(Sayfa1!$A$1,MATCH(R9,Sayfa1!$A$2:$A$101,0),3)","v":"AA SS"},{"$f":"OFFSET(Sayfa1!$A$1,MATCH(R9,Sayfa1!$A$2:$A$101,0),1)","v":139},"Lisans","E.Ö.","XXXX","5",{"$f":"LEFT(OFFSET(Sayfa1!$A$1,MATCH(R9,Sayfa1!$A$2:$A$101,0),9),1)","v":"5"},{"$f":"RIGHT(OFFSET(Sayfa1!$A$1,MATCH(R9,Sayfa1!$A$2:$A$101,0),9),1)","v":"3"},{"$f":"OFFSET(Sayfa1!$A$1,MATCH(R9,Sayfa1!$A$2:$A$101,0),10)","v":"23.02.2017"},"5","5",null,"2018-02-24","    ---------","     -------","    ---------",20]
[5,{"$f":"OFFSET(Sayfa1!$A$1,MATCH(R10,Sayfa1!$A$2:$A$101,0),2) &\" \"& OFFSET(Sayfa1!$A$1,MATCH(R10,Sayfa1!$A$2:$A$101,0),3)","v":"AA SS"},{"$f":"OFFSET(Sayfa1!$A$1,MATCH(R10,Sayfa1!$A$2:$A$101,0),1)","v":144},"Lisans","E.Ö.","XXXX","6",{"$f":"LEFT(OFFSET(Sayfa1!$A$1,MATCH(R10,Sayfa1!$A$2:$A$101,0),9),1)","v":"6"},{"$f":"RIGHT(OFFSET(Sayfa1!$A$1,MATCH(R10,Sayfa1!$A$2:$A$101,0),9),1)","v":"3"},{"$f":"OFFSET(Sayfa1!$A$1,MATCH(R10,Sayfa1!$A$2:$A$101,0),10)","v":"14.09.2016"},"6","6",null,"2017-09-15","    ---------","     -------","    ---------",25]
[6,{"$f":"OFFSET(Sayfa1!$A$1,MATCH(R11,Sayfa1!$A$2:$A$101,0),2) &\" \"& OFFSET(Sayfa1!$A$1,MATCH(R11,Sayfa1!$A$2:$A$101,0),3)","v":"AA SS"},{"$f":"OFFSET(Sayfa1!$A$1,MATCH(R11,Sayfa1!$A$2:$A$101,0),1)","v":149},"Lisans","E.Ö.","XXXX","4",{"$f":"LEFT(OFFSET(Sayfa1!$A$1,MATCH(R11,Sayfa1!$A$2:$A$101,0),9),1)","v":"4"},{"$f":"RIGHT(OFFSET(Sayfa1!$A$1,MATCH(R11,Sayfa1!$A$2:$A$101,0),9),1)","v":"1"},{"$f":"OFFSET(Sayfa1!$A$1,MATCH(R11,Sayfa1!$A$2:$A$101,0),10)","v":"10.09.2016"},"4","4",null,"2017-09-11","    ---------","     -------","    ---------",30]
[7,{"$f":"OFFSET(Sayfa1!$A$1,MATCH(R12,Sayfa1!$A$2:$A$101,0),2) &\" \"& OFFSET(Sayfa1!$A$1,MATCH(R12,Sayfa1!$A$2:$A$101,0),3)","v":"AA SS"},{"$f":"OFFSET(Sayfa1!$A$1,MATCH(R12,Sayfa1!$A$2:$A$101,0),1)","v":154},"Lisans","E.Ö.","XXXX","3",{"$f":"LEFT(OFFSET(Sayfa1!$A$1,MATCH(R12,Sayfa1!$A$2:$A$101,0),9),1)","v":"3"},{"$f":"RIGHT(OFFSET(Sayfa1!$A$1,MATCH(R12,Sayfa1!$A$2:$A$101,0),9),1)","v":"2"},{"$f":"OFFSET(Sayfa1!$A$1,MATCH(R12,Sayfa1!$A$2:$A$101,0),10)","v":"2019-02-19"},"3","3",null,"2020-02-20","    ---------","     -------","    ---------",35]
[8,{"$f":"OFFSET(Sayfa1!$A$1,MATCH(R13,Sayfa1!$A$2:$A$101,0),2) &\" \"& OFFSET(Sayfa1!$A$1,MATCH(R13,Sayfa1!$A$2:$A$101,0),3)","v":"AA SS"},{"$f":"OFFSET(Sayfa1!$A$1,MATCH(R13,Sayfa1!$A$2:$A$101,0),1)","v":159},"Lisans","E.Ö.","XXXX","8",{"$f":"LEFT(OFFSET(Sayfa1!$A$1,MATCH(R13,Sayfa1!$A$2:$A$101,0),9),1)","v":"8"},{"$f":"RIGHT(OFFSET(Sayfa1!$A$1,MATCH(R13,Sayfa1!$A$2:$A$101,0),9),1)","v":"2"},{"$f":"OFFSET(Sayfa1!$A$1,MATCH(R13,Sayfa1!$A$2:$A$101,0),10)","v":"2019-05-05"},"8","8",null,"2020-05-05","    ---------","     -------","    ---------",40]
[9,{"$f":"OFFSET(Sayfa1!$A$1,MATCH(R14,Sayfa1!$A$2:$A$101,0),2) &\" \"& OFFSET(Sayfa1!$A$1,MATCH(R14,Sayfa1!$A$2:$A$101,0),3)","v":"AA SS"},{"$f":"OFFSET(Sayfa1!$A$1,MATCH(R14,Sayfa1!$A$2:$A$101,0),1)","v":164},"Lisans","E.Ö.","XXXX","3",{"$f":"LEFT(OFFSET(Sayfa1!$A$1,MATCH(R14,Sayfa1!$A$2:$A$101,0),9),1)","v":"3"},{"$f":"RIGHT(OFFSET(Sayfa1!$A$1,MATCH(R14,Sayfa1!$A$2:$A$101,0),9),1)","v":"2"},{"$f":"OFFSET(Sayfa1!$A$1,MATCH(R14,Sayfa1!$A$2:$A$101,0),10)","v":"2019-07-19"},"3","3",null,"2020-07-19","    ---------","     -------","    ---------",45]
[10,{"$f":"OFFSET(Sayfa1!$A$1,MATCH(R15,Sayfa1!$A$2:$A$101,0),2) &\" \"& OFFSET(Sayfa1!$A$1,MATCH(R15,Sayfa1!$A$2:$A$101,0),3)","v":"AA SS"},{"$f":"OFFSET(Sayfa1!$A$1,MATCH(R15,Sayfa1!$A$2:$A$101,0),1)","v":169},"Lisans","E.Ö.","XXXX","5",{"$f":"LEFT(OFFSET(Sayfa1!$A$1,MATCH(R15,Sayfa1!$A$2:$A$101,0),9),1)","v":"5"},{"$f":"RIGHT(OFFSET(Sayfa1!$A$1,MATCH(R15,Sayfa1!$A$2:$A$101,0),9),1)","v":"3"},{"$f":"OFFSET(Sayfa1!$A$1,MATCH(R15,Sayfa1!$A$2:$A$101,0),10)","v":"2019-02-02"},"5","5",null,"2020-02-03","    ---------","     -------","    ---------",50]
[11,{"$f":"OFFSET(Sayfa1!$A$1,MATCH(R16,Sayfa1!$A$2:$A$101,0),2) &\" \"& OFFSET(Sayfa1!$A$1,MATCH(R16,Sayfa1!$A$2:$A$101,0),3)","v":"AA SS"},{"$f":"OFFSET(Sayfa1!$A$1,MATCH(R16,Sayfa1!$A$2:$A$101,0),1)","v":174},"Lisans","E.Ö.","XXXX","2",{"$f":"LEFT(OFFSET(Sayfa1!$A$1,MATCH(R16,Sayfa1!$A$2:$A$101,0),9),1)","v":"2"},{"$f":"RIGHT(OFFSET(Sayfa1!$A$1,MATCH(R16,Sayfa1!$A$2:$A$101,0),9),1)","v":"3"},{"$f":"OFFSET(Sayfa1!$A$1,MATCH(R16,Sayfa1!$A$2:$A$101,0),10)","v":"11.12.2016"},"2","2",null,"2017-12-12","    ---------","     -------","    ---------",55]
[12,{"$f":"OFFSET(Sayfa1!$A$1,MATCH(R17,Sayfa1!$A$2:$A$101,0),2) &\" \"& OFFSET(Sayfa1!$A$1,MATCH(R17,Sayfa1!$A$2:$A$101,0),3)","v":"AA SS"},{"$f":"OFFSET(Sayfa1!$A$1,MATCH(R17,Sayfa1!$A$2:$A$101,0),1)","v":179},"Lisans","E.Ö.","XXXX","8",{"$f":"LEFT(OFFSET(Sayfa1!$A$1,MATCH(R17,Sayfa1!$A$2:$A$101,0),9),1)","v":"8"},{"$f":"RIGHT(OFFSET(Sayfa1!$A$1,MATCH(R17,Sayfa1!$A$2:$A$101,0),9),1)","v":"3"},{"$f":"OFFSET(Sayfa1!$A$1,MATCH(R17,Sayfa1!$A$2:$A$101,0),10)","v":"2016-09-22"},"8","8",null,"2017-09-23","    ---------","     -------","    ---------",60]
[13,{"$f":"OFFSET(Sayfa1!$A$1,MATCH(R18,Sayfa1!$A$2:$A$101,0),2) &\" \"& OFFSET(Sayfa1!$A$1,MATCH(R18,Sayfa1!$A$2:$A$101,0),3)","v":"AA SS"},{"$f":"OFFSET(Sayfa1!$A$1,MATCH(R18,Sayfa1!$A$2:$A$101,0),1)","v":184},"Lisans","E.Ö.","XXXX","5",{"$f":"LEFT(OFFSET(Sayfa1!$A$1,MATCH(R18,Sayfa1!$A$2:$A$101,0),9),1)","v":"5"},{"$f":"RIGHT(OFFSET(Sayfa1!$A$1,MATCH(R18,Sayfa1!$A$2:$A$101,0),9),1)","v":"3"},{"$f":"OFFSET(Sayfa1!$A$1,MATCH(R18,Sayfa1!$A$2:$A$101,0),10)","v":"12.09.2016"},"5","5",null,"2017-09-13","    ---------","     -------","    ---------",65]
[14,{"$f":"OFFSET(Sayfa1!$A$1,MATCH(R19,Sayfa1!$A$2:$A$101,0),2) &\" \"& OFFSET(Sayfa1!$A$1,MATCH(R19,Sayfa1!$A$2:$A$101,0),3)","v":"AA SS"},{"$f":"OFFSET(Sayfa1!$A$1,MATCH(R19,Sayfa1!$A$2:$A$101,0),1)","v":189},"Lisans","E.Ö.","XXXX","5",{"$f":"LEFT(OFFSET(Sayfa1!$A$1,MATCH(R19,Sayfa1!$A$2:$A$101,0),9),1)","v":"5"},{"$f":"RIGHT(OFFSET(Sayfa1!$A$1,MATCH(R19,Sayfa1!$A$2:$A$101,0),9),1)","v":"3"},{"$f":"OFFSET(Sayfa1!$A$1,MATCH(R19,Sayfa1!$A$2:$A$101,0),10)","v":"23.02.2017"},"5","5",null,"2018-02-24","    ---------","     -------","    ---------",70]
[15,{"$f":"OFFSET(Sayfa1!$A$1,MATCH(R20,Sayfa1!$A$2:$A$101,0),2) &\" \"& OFFSET(Sayfa1!$A$1,MATCH(R20,Sayfa1!$A$2:$A$101,0),3)","v":"AA SS"},{"$f":"OFFSET(Sayfa1!$A$1,MATCH(R20,Sayfa1!$A$2:$A$101,0),1)","v":194},"Lisans","E.Ö.","XXXX","6",{"$f":"LEFT(OFFSET(Sayfa1!$A$1,MATCH(R20,Sayfa1!$A$2:$A$101,0),9),1)","v":"6"},{"$f":"RIGHT(OFFSET(Sayfa1!$A$1,MATCH(R20,Sayfa1!$A$2:$A$101,0),9),1)","v":"3"},{"$f":"OFFSET(Sayfa1!$A$1,MATCH(R20,Sayfa1!$A$2:$A$101,0),10)","v":"14.09.2016"},"6","6",null,"2017-09-15","    ---------","     -------","    ---------",75]
[]
[null,"SAYI  :  0000000-900/                                                                                                                                                                                             27/08/2014",0,null,null,null,null,null,null,null,null,null,null,null,null,"23/02/2017"]
[null,"KONU:  Kademe Terfi"]
[]
[null,"İLÇE MİLLİ EĞİTİM MÜDÜRLÜĞÜNE"]
[null,"                                                                                                                                          CCCCCC"]
[null,"            Yukarıda belirtilen 1(BİR) personelin 657 S.D.M.K'nın  64-65. maddeleri gereğince karşısında gösterilen tarihten geçerli olmak üzere kademe ilerlemesi yapılmıştır."]
[null,"             Gereğini ve bilgilerinize arz ederim."]
[]
[null,null,null,null,null,null,null,null,null,null,null,null,null,null,"XXXX"]
[null,null,null,null,null,null,null,null,null,null,null,null,null,null,"Okul Müdürü"]

{"sheet":"DERECE","index":2,"n_rows":31,"n_cols":18,"rows_kept":31,"cut":false,"hidden":false,"merged":[[25,1,25,16],[0,0,0,16],[3,0,4,0],[3,1,4,1],[3,2,4,2],[3,3,4,3],[3,4,4,4],[3,5,4,5],[3,6,3,9],[3,10,3,13],[3,14,3,15],[3,16,4,16],[20,1,20,16],[22,1,22,16],[23,1,23,16],[24,1,24,16],[26,1,26,16],[27,1,27,16],[28,1,28,16],[29,14,29,16],[30,14,30,16]]}
["DERECE TERFİ ONAYI"]
["İL/İLÇE:ANKARA/………………………","LÇE : XXX/XXXX"]
[]
["S.NO","ADI-SOYADI","T.C.              KİMLİK NO","ÖĞR.DUR.","SINIFI","GÖREV YERİ","ESKİ DURUMU",null,null,null,"YENİ DURUM",null,null,null,"VARSA ARTAN KIDEMİ",null,"AÇIKLAMA"]
[null,null,null,null,null,null,"K","D","K","Bu D/K ye Yük.Tar.","K","D","K","Bu D/K ye Yük.Tar.","AY","GÜN",null,"SIRASI"]
[1,{"$f":"OFFSET(Sayfa1!$A$1,MATCH(R6,Sayfa1!$A$2:$A$101,0),2) &\" \"& OFFSET(Sayfa1!$A$1,MATCH(R6,Sayfa1!$A$2:$A$101,0),3)","v":"AA SS"},{"$f":"OFFSET(Sayfa1!$A$1,MATCH(R6,Sayfa1!$A$2:$A$101,0),1)","v":124},"Lisans","E.Ö.","XXXX",{"$f":"H6","v":"2"},{"$f":"LEFT(OFFSET(Sayfa1!$A$1,MATCH(R6,Sayfa1!$A$2:$A$101,0),9),1)","v":"2"},{"$f":"RIGHT(OFFSET(Sayfa1!$A$1,MATCH(R6,Sayfa1!$A$2:$A$101,0),9),1)","v":"3"},{"$f":"OFFSET(Sayfa1!$A$1,MATCH(R6,Sayfa1!$A$2:$A$101,0),10)","v":"11.12.2016"},{"$f":"G6","v":"2"},{"$f":"H6","v":"2"},null,{"$f":"J6+365","v":"2017-12-11"},"    ---------","     -------","    ---------",5]
[2,{"$f":"OFFSET(Sayfa1!$A$1,MATCH(R7,Sayfa1!$A$2:$A$101,0),2) &\" \"& OFFSET(Sayfa1!$A$1,MATCH(R7,Sayfa1!$A$2:$A$101,0),3)","v":"AA SS"},{"$f":"OFFSET(Sayfa1!$A$1,MATCH(R7,Sayfa1!$A$2:$A$101,0),1)","v":129},"Lisans","E.Ö.","XXXX",{"$f":"H7","v":"8"},{"$f":"LEFT(OFFSET(Sayfa1!$A$1,MATCH(R7,Sayfa1!$A$2:$A$101,0),9),1)","v":"8"},{"$f":"RIGHT(OFFSET(Sayfa1!$A$1,MATCH(R7,Sayfa1!$A$2:$A$101,0),9),1)","v":"3"},{"$f":"OFFSET(Sayfa1!$A$1,MATCH(R7,Sayfa1!$A$2:$A$101,0),10)","v":"2016-09-22"},{"$f":"G7","v":"8"},{"$f":"H7","v":"8"},null,{"$f":"J7+365","v":"2017-09-22"},"    ---------","     -------","    ---------",10]
[3,{"$f":"OFFSET(Sayfa1!$A$1,MATCH(R8,Sayfa1!$A$2:$A$101,0),2) &\" \"& OFFSET(Sayfa1!$A$1,MATCH(R8,Sayfa1!$A$2:$A$101,0),3)","v":"AA SS"},{"$f":"OFFSET(Sayfa1!$A$1,MATCH(R8,Sayfa1!$A$2:$A$101,0),1)","v":134},"Lisans","E.Ö.","XXXX","5",{"$f":"LEFT(OFFSET(Sayfa1!$A$1,MATCH(R8,Sayfa1!$A$2:$A$101,0),9),1)","v":"5"},{"$f":"RIGHT(OFFSET(Sayfa1!$A$1,MATCH(R8,Sayfa1!$A$2:$A$101,0),9),1)","v":"3"},{"$f":"OFFSET(Sayfa1!$A$1,MATCH(R8,Sayfa1!$A$2:$A$101,0),10)","v":"12.09.2016"},"5","5",null,"2017-09-12","    ---------","     -------","    ---------",15]
[4,{"$f":"OFFSET(Sayfa1!$A$1,MATCH(R9,Sayfa1!$A$2:$A$101,0),2) &\" \"& OFFSET(Sayfa1!$A$1,MATCH(R9,Sayfa1!$A$2:$A$101,0),3)","v":"AA SS"},{"$f":"OFFSET(Sayfa1!$A$1,MATCH(R9,Sayfa1!$A$2:$A$101,0),1)","v":139},"Lisans","E.Ö.","XXXX","5",{"$f":"LEFT(OFFSET(Sayfa1!$A$1,MATCH(R9,Sayfa1!$A$2:$A$101,0),9),1)","v":"5"},{"$f":"RIGHT(OFFSET(Sayfa1!$A$1,MATCH(R9,Sayfa1!$A$2:$A$101,0),9),1)","v":"3"},{"$f":"OFFSET(Sayfa1!$A$1,MATCH(R9,Sayfa1!$A$2:$A$101,0),10)","v":"23.02.2017"},"5","5",null,"2018-02-23","    ---------","     -------","    ---------",20]
[5,{"$f":"OFFSET(Sayfa1!$A$1,MATCH(R10,Sayfa1!$A$2:$A$101,0),2) &\" \"& OFFSET(Sayfa1!$A$1,MATCH(R10,Sayfa1!$A$2:$A$101,0),3)","v":"AA SS"},{"$f":"OFFSET(Sayfa1!$A$1,MATCH(R10,Sayfa1!$A$2:$A$101,0),1)","v":144},"Lisans","E.Ö.","XXXX","6",{"$f":"LEFT(OFFSET(Sayfa1!$A$1,MATCH(R10,Sayfa1!$A$2:$A$101,0),9),1)","v":"6"},{"$f":"RIGHT(OFFSET(Sayfa1!$A$1,MATCH(R10,Sayfa1!$A$2:$A$101,0),9),1)","v":"3"},{"$f":"OFFSET(Sayfa1!$A$1,MATCH(R10,Sayfa1!$A$2:$A$101,0),10)","v":"14.09.2016"},"6","6",null,"2017-09-14","    ---------","     -------","    ---------",25]
[6,{"$f":"OFFSET(Sayfa1!$A$1,MATCH(R11,Sayfa1!$A$2:$A$101,0),2) &\" \"& OFFSET(Sayfa1!$A$1,MATCH(R11,Sayfa1!$A$2:$A$101,0),3)","v":"AA SS"},{"$f":"OFFSET(Sayfa1!$A$1,MATCH(R11,Sayfa1!$A$2:$A$101,0),1)","v":149},"Lisans","E.Ö.","XXXX","4",{"$f":"LEFT(OFFSET(Sayfa1!$A$1,MATCH(R11,Sayfa1!$A$2:$A$101,0),9),1)","v":"4"},{"$f":"RIGHT(OFFSET(Sayfa1!$A$1,MATCH(R11,Sayfa1!$A$2:$A$101,0),9),1)","v":"1"},{"$f":"OFFSET(Sayfa1!$A$1,MATCH(R11,Sayfa1!$A$2:$A$101,0),10)","v":"10.09.2016"},"4","4",null,"2017-09-10","    ---------","     -------","    ---------",30]
[7,{"$f":"OFFSET(Sayfa1!$A$1,MATCH(R12,Sayfa1!$A$2:$A$101,0),2) &\" \"& OFFSET(Sayfa1!$A$1,MATCH(R12,Sayfa1!$A$2:$A$101,0),3)","v":"AA SS"},{"$f":"OFFSET(Sayfa1!$A$1,MATCH(R12,Sayfa1!$A$2:$A$101,0),1)","v":154},"Lisans","E.Ö.","XXXX","3",{"$f":"LEFT(OFFSET(Sayfa1!$A$1,MATCH(R12,Sayfa1!$A$2:$A$101,0),9),1)","v":"3"},{"$f":"RIGHT(OFFSET(Sayfa1!$A$1,MATCH(R12,Sayfa1!$A$2:$A$101,0),9),1)","v":"2"},{"$f":"OFFSET(Sayfa1!$A$1,MATCH(R12,Sayfa1!$A$2:$A$101,0),10)","v":"2019-02-19"},"3","3",null,"2020-02-19","    ---------","     -------","    ---------",35]
[8,{"$f":"OFFSET(Sayfa1!$A$1,MATCH(R13,Sayfa1!$A$2:$A$101,0),2) &\" \"& OFFSET(Sayfa1!$A$1,MATCH(R13,Sayfa1!$A$2:$A$101,0),3)","v":"AA SS"},{"$f":"OFFSET(Sayfa1!$A$1,MATCH(R13,Sayfa1!$A$2:$A$101,0),1)","v":159},"Lisans","E.Ö.","XXXX","8",{"$f":"LEFT(OFFSET(Sayfa1!$A$1,MATCH(R13,Sayfa1!$A$2:$A$101,0),9),1)","v":"8"},{"$f":"RIGHT(OFFSET(Sayfa1!$A$1,MATCH(R13,Sayfa1!$A$2:$A$101,0),9),1)","v":"2"},{"$f":"OFFSET(Sayfa1!$A$1,MATCH(R13,Sayfa1!$A$2:$A$101,0),10)","v":"2019-05-05"},"8","8",null,"2020-05-04","    ---------","     -------","    ---------",40]
[9,{"$f":"OFFSET(Sayfa1!$A$1,MATCH(R14,Sayfa1!$A$2:$A$101,0),2) &\" \"& OFFSET(Sayfa1!$A$1,MATCH(R14,Sayfa1!$A$2:$A$101,0),3)","v":"AA SS"},{"$f":"OFFSET(Sayfa1!$A$1,MATCH(R14,Sayfa1!$A$2:$A$101,0),1)","v":164},"Lisans","E.Ö.","XXXX","3",{"$f":"LEFT(OFFSET(Sayfa1!$A$1,MATCH(R14,Sayfa1!$A$2:$A$101,0),9),1)","v":"3"},{"$f":"RIGHT(OFFSET(Sayfa1!$A$1,MATCH(R14,Sayfa1!$A$2:$A$101,0),9),1)","v":"2"},{"$f":"OFFSET(Sayfa1!$A$1,MATCH(R14,Sayfa1!$A$2:$A$101,0),10)","v":"2019-07-19"},"3","3",null,"2020-07-18","    ---------","     -------","    ---------",45]
[10,{"$f":"OFFSET(Sayfa1!$A$1,MATCH(R15,Sayfa1!$A$2:$A$101,0),2) &\" \"& OFFSET(Sayfa1!$A$1,MATCH(R15,Sayfa1!$A$2:$A$101,0),3)","v":"AA SS"},{"$f":"OFFSET(Sayfa1!$A$1,MATCH(R15,Sayfa1!$A$2:$A$101,0),1)","v":169},"Lisans","E.Ö.","XXXX","5",{"$f":"LEFT(OFFSET(Sayfa1!$A$1,MATCH(R15,Sayfa1!$A$2:$A$101,0),9),1)","v":"5"},{"$f":"RIGHT(OFFSET(Sayfa1!$A$1,MATCH(R15,Sayfa1!$A$2:$A$101,0),9),1)","v":"3"},{"$f":"OFFSET(Sayfa1!$A$1,MATCH(R15,Sayfa1!$A$2:$A$101,0),10)","v":"2019-02-02"},"5","5",null,"2020-02-02","    ---------","     -------","    ---------",50]
[11,{"$f":"OFFSET(Sayfa1!$A$1,MATCH(R16,Sayfa1!$A$2:$A$101,0),2) &\" \"& OFFSET(Sayfa1!$A$1,MATCH(R16,Sayfa1!$A$2:$A$101,0),3)","v":"AA SS"},{"$f":"OFFSET(Sayfa1!$A$1,MATCH(R16,Sayfa1!$A$2:$A$101,0),1)","v":174},"Lisans","E.Ö.","XXXX","2",{"$f":"LEFT(OFFSET(Sayfa1!$A$1,MATCH(R16,Sayfa1!$A$2:$A$101,0),9),1)","v":"2"},{"$f":"RIGHT(OFFSET(Sayfa1!$A$1,MATCH(R16,Sayfa1!$A$2:$A$101,0),9),1)","v":"3"},{"$f":"OFFSET(Sayfa1!$A$1,MATCH(R16,Sayfa1!$A$2:$A$101,0),10)","v":"11.12.2016"},"2","2",null,"2017-12-11","    ---------","     -------","    ---------",55]
[12,{"$f":"OFFSET(Sayfa1!$A$1,MATCH(R17,Sayfa1!$A$2:$A$101,0),2) &\" \"& OFFSET(Sayfa1!$A$1,MATCH(R17,Sayfa1!$A$2:$A$101,0),3)","v":"AA SS"},{"$f":"OFFSET(Sayfa1!$A$1,MATCH(R17,Sayfa1!$A$2:$A$101,0),1)","v":179},"Lisans","E.Ö.","XXXX","8",{"$f":"LEFT(OFFSET(Sayfa1!$A$1,MATCH(R17,Sayfa1!$A$2:$A$101,0),9),1)","v":"8"},{"$f":"RIGHT(OFFSET(Sayfa1!$A$1,MATCH(R17,Sayfa1!$A$2:$A$101,0),9),1)","v":"3"},{"$f":"OFFSET(Sayfa1!$A$1,MATCH(R17,Sayfa1!$A$2:$A$101,0),10)","v":"2016-09-22"},"8","8",null,"2017-09-22","    ---------","     -------","    ---------",60]
[13,{"$f":"OFFSET(Sayfa1!$A$1,MATCH(R18,Sayfa1!$A$2:$A$101,0),2) &\" \"& OFFSET(Sayfa1!$A$1,MATCH(R18,Sayfa1!$A$2:$A$101,0),3)","v":"AA SS"},{"$f":"OFFSET(Sayfa1!$A$1,MATCH(R18,Sayfa1!$A$2:$A$101,0),1)","v":184},"Lisans","E.Ö.","XXXX","5",{"$f":"LEFT(OFFSET(Sayfa1!$A$1,MATCH(R18,Sayfa1!$A$2:$A$101,0),9),1)","v":"5"},{"$f":"RIGHT(OFFSET(Sayfa1!$A$1,MATCH(R18,Sayfa1!$A$2:$A$101,0),9),1)","v":"3"},{"$f":"OFFSET(Sayfa1!$A$1,MATCH(R18,Sayfa1!$A$2:$A$101,0),10)","v":"12.09.2016"},"5","5",null,"2017-09-12","    ---------","     -------","    ---------",65]
[14,{"$f":"OFFSET(Sayfa1!$A$1,MATCH(R19,Sayfa1!$A$2:$A$101,0),2) &\" \"& OFFSET(Sayfa1!$A$1,MATCH(R19,Sayfa1!$A$2:$A$101,0),3)","v":"AA SS"},{"$f":"OFFSET(Sayfa1!$A$1,MATCH(R19,Sayfa1!$A$2:$A$101,0),1)","v":189},"Lisans","E.Ö.","XXXX","5",{"$f":"LEFT(OFFSET(Sayfa1!$A$1,MATCH(R19,Sayfa1!$A$2:$A$101,0),9),1)","v":"5"},{"$f":"RIGHT(OFFSET(Sayfa1!$A$1,MATCH(R19,Sayfa1!$A$2:$A$101,0),9),1)","v":"3"},{"$f":"OFFSET(Sayfa1!$A$1,MATCH(R19,Sayfa1!$A$2:$A$101,0),10)","v":"23.02.2017"},"5","5",null,"2018-02-23","    ---------","     -------","    ---------",70]
[15,{"$f":"OFFSET(Sayfa1!$A$1,MATCH(R20,Sayfa1!$A$2:$A$101,0),2) &\" \"& OFFSET(Sayfa1!$A$1,MATCH(R20,Sayfa1!$A$2:$A$101,0),3)","v":"AA SS"},{"$f":"OFFSET(Sayfa1!$A$1,MATCH(R20,Sayfa1!$A$2:$A$101,0),1)","v":219},"Lisans","E.Ö.","XXXX","5",{"$f":"LEFT(OFFSET(Sayfa1!$A$1,MATCH(R20,Sayfa1!$A$2:$A$101,0),9),1)","v":"5"},{"$f":"RIGHT(OFFSET(Sayfa1!$A$1,MATCH(R20,Sayfa1!$A$2:$A$101,0),9),1)","v":"3"},{"$f":"OFFSET(Sayfa1!$A$1,MATCH(R20,Sayfa1!$A$2:$A$101,0),10)","v":"2019-02-02"},"5","5",null,"2020-02-02","    ---------","     -------","    ---------",100]
[]
[null,"SAYI  :  XXXXX-900/                                                                                                                                                                                             27/08/2014","XXXX",null,null,null,null,null,null,null,null,null,null,null,null,"31/05/2018"]
[null,"KONU:  Derece Terfi"]
[]
[null,"İLÇE MİLLİ EĞİTİM MÜDÜRLÜĞÜNE"]
[null,"                                                                                                                                                            XXXX"]
[null,"            Yukarıda belirtilen 15 (onbeş) personelin 657 S.D.M.K'nun 68. maddesi gereğince karşısında gösterilen tarihten geçerli olmak üzere derece terfisinin sağlanmasını arz ederim."]
[null,"             Gereğini ve bilgilerinize arz ederim."]
[]
[null,null,null,null,null,null,null,null,null,null,null,null,null,null,"XXXX"]
[null,null,null,null,null,null,null,null,null,null,null,null,null,null,"Okul Müdürü"]

{"sheet":"MAAS","index":3,"n_rows":51,"n_cols":16,"rows_kept":51,"cut":false,"hidden":false,"merged":[[0,0,0,6],[6,0,6,6],[7,1,7,4],[50,0,50,6],[15,5,15,6],[16,5,16,6],[20,3,20,4],[20,0,21,0],[20,1,21,1],[20,2,21,2],[20,5,21,5],[20,6,21,6]]}
["T.C.\nXXX KAYMAKAMLIĞI\nXXXXX Ortaokulu Müdürlüğü\n"]
[]
["     SAYI  : XXXX-900/","XXX",null,null,null,null,{"$f":"TODAY()","v":"2019-03-07"},{"$f":"TEXT(G3*30,\"aaaa\")","v":"Temmuz"}]
["      KONU: Maaş Değişiklik Bildirimi"]
[]
[]
["İLÇE MİLLİ EĞİTİM MÜDÜRLÜĞÜNE\n                                                    XXXX"]
[]
["                     Okulumuz öğretmenlerinin 2016 yılı Şubat ayına ait maaş değişikliğine ilişkin bilgileri"]
["      aşağıda belirtilmiştir."]
[]
["             Bilgilerinize arz  ederim."]
[]
[]
[]
[null,null,null,null,null,"XXXX"]
[null,null,null,null,null,"Okul Müdürü"]
[]
[]
[]
["ADI- SOYADI","PERSONEL NO","DEĞİŞİKLİK TÜRÜ","TERFİLER",null,"TERFİ TARİHİ","SİGORTALI İSE TUTAR TL",null,null,null,null,null,null,"Eylül",null,"ekim"]
[null,null,null,"ESKİ","YENİ",null,null,"SIRASI",null,null,null,null,null,"evren",null,"fatma gürcan 6/1"]
[{"$f":"OFFSET(Sayfa1!$A$1,MATCH(H23,Sayfa1!$A$2:$A$101,0),2) &\" \"& OFFSET(Sayfa1!$A$1,MATCH(H23,Sayfa1!$A$2:$A$101,0),3)","v":"AA SS"},{"$f":"OFFSET(Sayfa1!$A$1,MATCH(H23,Sayfa1!$A$2:$A$101,0),1)","v":122},"Kademe","7/2",{"$f":"OFFSET(Sayfa1!$A$1,MATCH(H23,Sayfa1!$A$2:$A$101,0),9)","v":"3/2"},{"$f":"OFFSET(Sayfa1!$A$1,MATCH(H23,Sayfa1!$A$2:$A$101,0),10)","v":"2016-12-22"},null,3,null,null,null,null,null,"melike",null,"meriç ağır 7/1"]
[{"$f":"OFFSET(Sayfa1!$A$1,MATCH(H24,Sayfa1!$A$2:$A$101,0),2) &\" \"& OFFSET(Sayfa1!$A$1,MATCH(H24,Sayfa1!$A$2:$A$101,0),3)","v":"AA SS"},{"$f":"OFFSET(Sayfa1!$A$1,MATCH(H24,Sayfa1!$A$2:$A$101,0),1)","v":123},"Kademe","7/3",{"$f":"OFFSET(Sayfa1!$A$1,MATCH(H24,Sayfa1!$A$2:$A$101,0),9)","v":"5/1"},{"$f":"OFFSET(Sayfa1!$A$1,MATCH(H24,Sayfa1!$A$2:$A$101,0),10)","v":"26.03.2017"},null,4,null,null,null,null,null,"tuğba gülşen"]
[{"$f":"OFFSET(Sayfa1!$A$1,MATCH(H25,Sayfa1!$A$2:$A$101,0),2) &\" \"& OFFSET(Sayfa1!$A$1,MATCH(H25,Sayfa1!$A$2:$A$101,0),3)","v":"AA SS"},{"$f":"OFFSET(Sayfa1!$A$1,MATCH(H25,Sayfa1!$A$2:$A$101,0),1)","v":123},"Kademe","7/4",{"$f":"OFFSET(Sayfa1!$A$1,MATCH(H25,Sayfa1!$A$2:$A$101,0),9)","v":"5/1"},{"$f":"OFFSET(Sayfa1!$A$1,MATCH(H25,Sayfa1!$A$2:$A$101,0),10)","v":"26.03.2017"},null,4]
[{"$f":"OFFSET(Sayfa1!$A$1,MATCH(H26,Sayfa1!$A$2:$A$101,0),2) &\" \"& OFFSET(Sayfa1!$A$1,MATCH(H26,Sayfa1!$A$2:$A$101,0),3)","v":"AA SS"},{"$f":"OFFSET(Sayfa1!$A$1,MATCH(H26,Sayfa1!$A$2:$A$101,0),1)","v":124},"Kademe","7/5",{"$f":"OFFSET(Sayfa1!$A$1,MATCH(H26,Sayfa1!$A$2:$A$101,0),9)","v":"2/3"},{"$f":"OFFSET(Sayfa1!$A$1,MATCH(H26,Sayfa1!$A$2:$A$101,0),10)","v":"11.12.2016"},null,5]
[{"$f":"OFFSET(Sayfa1!$A$1,MATCH(H27,Sayfa1!$A$2:$A$101,0),2) &\" \"& OFFSET(Sayfa1!$A$1,MATCH(H27,Sayfa1!$A$2:$A$101,0),3)","v":"AA SS"},{"$f":"OFFSET(Sayfa1!$A$1,MATCH(H27,Sayfa1!$A$2:$A$101,0),1)","v":126},"Kademe","7/6",{"$f":"OFFSET(Sayfa1!$A$1,MATCH(H27,Sayfa1!$A$2:$A$101,0),9)","v":"5/1"},{"$f":"OFFSET(Sayfa1!$A$1,MATCH(H27,Sayfa1!$A$2:$A$101,0),10)","v":"26.08.2016"},null,7]
[{"$f":"OFFSET(Sayfa1!$A$1,MATCH(H28,Sayfa1!$A$2:$A$101,0),2) &\" \"& OFFSET(Sayfa1!$A$1,MATCH(H28,Sayfa1!$A$2:$A$101,0),3)","v":"AA SS"},{"$f":"OFFSET(Sayfa1!$A$1,MATCH(H28,Sayfa1!$A$2:$A$101,0),1)","v":127},"Kademe","7/7",{"$f":"OFFSET(Sayfa1!$A$1,MATCH(H28,Sayfa1!$A$2:$A$101,0),9)","v":"8/2"},{"$f":"OFFSET(Sayfa1!$A$1,MATCH(H28,Sayfa1!$A$2:$A$101,0),10)","v":"2016-08-16"},null,8]
[{"$f":"OFFSET(Sayfa1!$A$1,MATCH(H29,Sayfa1!$A$2:$A$101,0),2) &\" \"& OFFSET(Sayfa1!$A$1,MATCH(H29,Sayfa1!$A$2:$A$101,0),3)","v":"AA SS"},{"$f":"OFFSET(Sayfa1!$A$1,MATCH(H29,Sayfa1!$A$2:$A$101,0),1)","v":129},"Kademe","7/8",{"$f":"OFFSET(Sayfa1!$A$1,MATCH(H29,Sayfa1!$A$2:$A$101,0),9)","v":"8/3"},{"$f":"OFFSET(Sayfa1!$A$1,MATCH(H29,Sayfa1!$A$2:$A$101,0),10)","v":"2016-09-22"},null,10]
[{"$f":"OFFSET(Sayfa1!$A$1,MATCH(H30,Sayfa1!$A$2:$A$101,0),2) &\" \"& OFFSET(Sayfa1!$A$1,MATCH(H30,Sayfa1!$A$2:$A$101,0),3)","v":"AA SS"},{"$f":"OFFSET(Sayfa1!$A$1,MATCH(H30,Sayfa1!$A$2:$A$101,0),1)","v":130},"Kademe","7/9",{"$f":"OFFSET(Sayfa1!$A$1,MATCH(H30,Sayfa1!$A$2:$A$101,0),9)","v":"8/3"},{"$f":"OFFSET(Sayfa1!$A$1,MATCH(H30,Sayfa1!$A$2:$A$101,0),10)","v":"22.09.2016"},null,11]
[{"$f":"OFFSET(Sayfa1!$A$1,MATCH(H31,Sayfa1!$A$2:$A$101,0),2) &\" \"& OFFSET(Sayfa1!$A$1,MATCH(H31,Sayfa1!$A$2:$A$101,0),3)","v":"AA SS"},{"$f":"OFFSET(Sayfa1!$A$1,MATCH(H31,Sayfa1!$A$2:$A$101,0),1)","v":132},"Kademe","7/10",{"$f":"OFFSET(Sayfa1!$A$1,MATCH(H31,Sayfa1!$A$2:$A$101,0),9)","v":"3/2"},{"$f":"OFFSET(Sayfa1!$A$1,MATCH(H31,Sayfa1!$A$2:$A$101,0),10)","v":"25.09.2016"},null,13]
[{"$f":"OFFSET(Sayfa1!$A$1,MATCH(H32,Sayfa1!$A$2:$A$101,0),2) &\" \"& OFFSET(Sayfa1!$A$1,MATCH(H32,Sayfa1!$A$2:$A$101,0),3)","v":"AA SS"},{"$f":"OFFSET(Sayfa1!$A$1,MATCH(H32,Sayfa1!$A$2:$A$101,0),1)","v":133},"Kademe","7/11",{"$f":"OFFSET(Sayfa1!$A$1,MATCH(H32,Sayfa1!$A$2:$A$101,0),9)","v":"7/3"},{"$f":"OFFSET(Sayfa1!$A$1,MATCH(H32,Sayfa1!$A$2:$A$101,0),10)","v":"21.01.2017"},null,14]
[{"$f":"OFFSET(Sayfa1!$A$1,MATCH(H33,Sayfa1!$A$2:$A$101,0),2) &\" \"& OFFSET(Sayfa1!$A$1,MATCH(H33,Sayfa1!$A$2:$A$101,0),3)","v":"AA SS"},{"$f":"OFFSET(Sayfa1!$A$1,MATCH(H33,Sayfa1!$A$2:$A$101,0),1)","v":134},"Kademe","7/12",{"$f":"OFFSET(Sayfa1!$A$1,MATCH(H33,Sayfa1!$A$2:$A$101,0),9)","v":"5/3"},{"$f":"OFFSET(Sayfa1!$A$1,MATCH(H33,Sayfa1!$A$2:$A$101,0),10)","v":"12.09.2016"},null,15]
[{"$f":"OFFSET(Sayfa1!$A$1,MATCH(H34,Sayfa1!$A$2:$A$101,0),2) &\" \"& OFFSET(Sayfa1!$A$1,MATCH(H34,Sayfa1!$A$2:$A$101,0),3)","v":"AA SS"},{"$f":"OFFSET(Sayfa1!$A$1,MATCH(H34,Sayfa1!$A$2:$A$101,0),1)","v":136},"Kademe","7/13",{"$f":"OFFSET(Sayfa1!$A$1,MATCH(H34,Sayfa1!$A$2:$A$101,0),9)","v":"5/3"},{"$f":"OFFSET(Sayfa1!$A$1,MATCH(H34,Sayfa1!$A$2:$A$101,0),10)","v":"04.09.2016"},null,17]
[{"$f":"OFFSET(Sayfa1!$A$1,MATCH(H35,Sayfa1!$A$2:$A$101,0),2) &\" \"& OFFSET(Sayfa1!$A$1,MATCH(H35,Sayfa1!$A$2:$A$101,0),3)","v":"AA SS"},{"$f":"OFFSET(Sayfa1!$A$1,MATCH(H35,Sayfa1!$A$2:$A$101,0),1)","v":138},"Kademe","7/14",{"$f":"OFFSET(Sayfa1!$A$1,MATCH(H35,Sayfa1!$A$2:$A$101,0),9)","v":"6/3"},{"$f":"OFFSET(Sayfa1!$A$1,MATCH(H35,Sayfa1!$A$2:$A$101,0),10)","v":"15.01.2017"},null,19]
[{"$f":"OFFSET(Sayfa1!$A$1,MATCH(H36,Sayfa1!$A$2:$A$101,0),2) &\" \"& OFFSET(Sayfa1!$A$1,MATCH(H36,Sayfa1!$A$2:$A$101,0),3)","v":"AA SS"},{"$f":"OFFSET(Sayfa1!$A$1,MATCH(H36,Sayfa1!$A$2:$A$101,0),1)","v":139},"Kademe","7/15",{"$f":"OFFSET(Sayfa1!$A$1,MATCH(H36,Sayfa1!$A$2:$A$101,0),9)","v":"5/3"},{"$f":"OFFSET(Sayfa1!$A$1,MATCH(H36,Sayfa1!$A$2:$A$101,0),10)","v":"23.02.2017"},null,20]
[{"$f":"OFFSET(Sayfa1!$A$1,MATCH(H37,Sayfa1!$A$2:$A$101,0),2) &\" \"& OFFSET(Sayfa1!$A$1,MATCH(H37,Sayfa1!$A$2:$A$101,0),3)","v":"AA SS"},{"$f":"OFFSET(Sayfa1!$A$1,MATCH(H37,Sayfa1!$A$2:$A$101,0),1)","v":140},"Kademe","7/16",{"$f":"OFFSET(Sayfa1!$A$1,MATCH(H37,Sayfa1!$A$2:$A$101,0),9)","v":"6/3"},{"$f":"OFFSET(Sayfa1!$A$1,MATCH(H37,Sayfa1!$A$2:$A$101,0),10)","v":"18.12.2016"},null,21]
[{"$f":"OFFSET(Sayfa1!$A$1,MATCH(H38,Sayfa1!$A$2:$A$101,0),2) &\" \"& OFFSET(Sayfa1!$A$1,MATCH(H38,Sayfa1!$A$2:$A$101,0),3)","v":"AA SS"},{"$f":"OFFSET(Sayfa1!$A$1,MATCH(H38,Sayfa1!$A$2:$A$101,0),1)","v":141},"Kademe","7/17",{"$f":"OFFSET(Sayfa1!$A$1,MATCH(H38,Sayfa1!$A$2:$A$101,0),9)","v":"8/2"},{"$f":"OFFSET(Sayfa1!$A$1,MATCH(H38,Sayfa1!$A$2:$A$101,0),10)","v":"2016-09-17"},null,22]
[{"$f":"OFFSET(Sayfa1!$A$1,MATCH(H39,Sayfa1!$A$2:$A$101,0),2) &\" \"& OFFSET(Sayfa1!$A$1,MATCH(H39,Sayfa1!$A$2:$A$101,0),3)","v":"AA SS"},{"$f":"OFFSET(Sayfa1!$A$1,MATCH(H39,Sayfa1!$A$2:$A$101,0),1)","v":142},"Kademe","7/18",{"$f":"OFFSET(Sayfa1!$A$1,MATCH(H39,Sayfa1!$A$2:$A$101,0),9)","v":"5/1"},{"$f":"OFFSET(Sayfa1!$A$1,MATCH(H39,Sayfa1!$A$2:$A$101,0),10)","v":"16.11.2016"},null,23]
[{"$f":"OFFSET(Sayfa1!$A$1,MATCH(H40,Sayfa1!$A$2:$A$101,0),2) &\" \"& OFFSET(Sayfa1!$A$1,MATCH(H40,Sayfa1!$A$2:$A$101,0),3)","v":"AA SS"},{"$f":"OFFSET(Sayfa1!$A$1,MATCH(H40,Sayfa1!$A$2:$A$101,0),1)","v":143},"Kademe","7/19",{"$f":"OFFSET(Sayfa1!$A$1,MATCH(H40,Sayfa1!$A$2:$A$101,0),9)","v":"4/3"},{"$f":"OFFSET(Sayfa1!$A$1,MATCH(H40,Sayfa1!$A$2:$A$101,0),10)","v":"06.09.2016"},null,24]
[{"$f":"OFFSET(Sayfa1!$A$1,MATCH(H41,Sayfa1!$A$2:$A$101,0),2) &\" \"& OFFSET(Sayfa1!$A$1,MATCH(H41,Sayfa1!$A$2:$A$101,0),3)","v":"AA SS"},{"$f":"OFFSET(Sayfa1!$A$1,MATCH(H41,Sayfa1!$A$2:$A$101,0),1)","v":144},"Kademe","7/20",{"$f":"OFFSET(Sayfa1!$A$1,MATCH(H41,Sayfa1!$A$2:$A$101,0),9)","v":"6/3"},{"$f":"OFFSET(Sayfa1!$A$1,MATCH(H41,Sayfa1!$A$2:$A$101,0),10)","v":"14.09.2016"},null,25]
[{"$f":"OFFSET(Sayfa1!$A$1,MATCH(H42,Sayfa1!$A$2:$A$101,0),2) &\" \"& OFFSET(Sayfa1!$A$1,MATCH(H42,Sayfa1!$A$2:$A$101,0),3)","v":"AA SS"},{"$f":"OFFSET(Sayfa1!$A$1,MATCH(H42,Sayfa1!$A$2:$A$101,0),1)","v":145},"Kademe","7/21",{"$f":"OFFSET(Sayfa1!$A$1,MATCH(H42,Sayfa1!$A$2:$A$101,0),9)","v":"4/3"},{"$f":"OFFSET(Sayfa1!$A$1,MATCH(H42,Sayfa1!$A$2:$A$101,0),10)","v":"02.02.2017"},null,26]
[{"$f":"OFFSET(Sayfa1!$A$1,MATCH(H43,Sayfa1!$A$2:$A$101,0),2) &\" \"& OFFSET(Sayfa1!$A$1,MATCH(H43,Sayfa1!$A$2:$A$101,0),3)","v":"AA SS"},{"$f":"OFFSET(Sayfa1!$A$1,MATCH(H43,Sayfa1!$A$2:$A$101,0),1)","v":147},"Kademe","7/22",{"$f":"OFFSET(Sayfa1!$A$1,MATCH(H43,Sayfa1!$A$2:$A$101,0),9)","v":"5/2"},{"$f":"OFFSET(Sayfa1!$A$1,MATCH(H43,Sayfa1!$A$2:$A$101,0),10)","v":"2016-10-29"},null,28]
[{"$f":"OFFSET(Sayfa1!$A$1,MATCH(H44,Sayfa1!$A$2:$A$101,0),2) &\" \"& OFFSET(Sayfa1!$A$1,MATCH(H44,Sayfa1!$A$2:$A$101,0),3)","v":"AA SS"},{"$f":"OFFSET(Sayfa1!$A$1,MATCH(H44,Sayfa1!$A$2:$A$101,0),1)","v":148},"Kademe","7/23",{"$f":"OFFSET(Sayfa1!$A$1,MATCH(H44,Sayfa1!$A$2:$A$101,0),9)","v":"8/3"},{"$f":"OFFSET(Sayfa1!$A$1,MATCH(H44,Sayfa1!$A$2:$A$101,0),10)","v":"12.02.2017"},null,29]
[{"$f":"OFFSET(Sayfa1!$A$1,MATCH(H45,Sayfa1!$A$2:$A$101,0),2) &\" \"& OFFSET(Sayfa1!$A$1,MATCH(H45,Sayfa1!$A$2:$A$101,0),3)","v":"AA SS"},{"$f":"OFFSET(Sayfa1!$A$1,MATCH(H45,Sayfa1!$A$2:$A$101,0),1)","v":149},"Kademe","7/24",{"$f":"OFFSET(Sayfa1!$A$1,MATCH(H45,Sayfa1!$A$2:$A$101,0),9)","v":"4/1"},{"$f":"OFFSET(Sayfa1!$A$1,MATCH(H45,Sayfa1!$A$2:$A$101,0),10)","v":"10.09.2016"},null,30]
[{"$f":"OFFSET(Sayfa1!$A$1,MATCH(H46,Sayfa1!$A$2:$A$101,0),2) &\" \"& OFFSET(Sayfa1!$A$1,MATCH(H46,Sayfa1!$A$2:$A$101,0),3)","v":"AA SS"},{"$f":"OFFSET(Sayfa1!$A$1,MATCH(H46,Sayfa1!$A$2:$A$101,0),1)","v":151},"Kademe","7/25",{"$f":"OFFSET(Sayfa1!$A$1,MATCH(H46,Sayfa1!$A$2:$A$101,0),9)","v":"5/1"},{"$f":"OFFSET(Sayfa1!$A$1,MATCH(H46,Sayfa1!$A$2:$A$101,0),10)","v":"2019-01-05"},null,32]
[{"$f":"OFFSET(Sayfa1!$A$1,MATCH(H47,Sayfa1!$A$2:$A$101,0),2) &\" \"& OFFSET(Sayfa1!$A$1,MATCH(H47,Sayfa1!$A$2:$A$101,0),3)","v":"AA SS"},{"$f":"OFFSET(Sayfa1!$A$1,MATCH(H47,Sayfa1!$A$2:$A$101,0),1)","v":152},"Kademe","7/26",{"$f":"OFFSET(Sayfa1!$A$1,MATCH(H47,Sayfa1!$A$2:$A$101,0),9)","v":"1/1"},{"$f":"OFFSET(Sayfa1!$A$1,MATCH(H47,Sayfa1!$A$2:$A$101,0),10)","v":"2019-01-20"},null,33]
[{"$f":"OFFSET(Sayfa1!$A$1,MATCH(H48,Sayfa1!$A$2:$A$101,0),2) &\" \"& OFFSET(Sayfa1!$A$1,MATCH(H48,Sayfa1!$A$2:$A$101,0),3)","v":"AA SS"},{"$f":"OFFSET(Sayfa1!$A$1,MATCH(H48,Sayfa1!$A$2:$A$101,0),1)","v":153},"Kademe","7/27",{"$f":"OFFSET(Sayfa1!$A$1,MATCH(H48,Sayfa1!$A$2:$A$101,0),9)","v":"3/3"},{"$f":"OFFSET(Sayfa1!$A$1,MATCH(H48,Sayfa1!$A$2:$A$101,0),10)","v":"2019-02-04"},null,34]
[{"$f":"OFFSET(Sayfa1!$A$1,MATCH(H49,Sayfa1!$A$2:$A$101,0),2) &\" \"& OFFSET(Sayfa1!$A$1,MATCH(H49,Sayfa1!$A$2:$A$101,0),3)","v":"AA SS"},{"$f":"OFFSET(Sayfa1!$A$1,MATCH(H49,Sayfa1!$A$2:$A$101,0),1)","v":154},"Kademe","7/28",{"$f":"OFFSET(Sayfa1!$A$1,MATCH(H49,Sayfa1!$A$2:$A$101,0),9)","v":"3/2"},{"$f":"OFFSET(Sayfa1!$A$1,MATCH(H49,Sayfa1!$A$2:$A$101,0),10)","v":"2019-02-19"},null,35]
[]
["XXXX"]